{
 "currentVersion": 10.91,
 "serviceDescription": "In partnership with Land Information Ontario, the Provincial Mapping Unit of the Ministry of Natural Resources and Forestry has released an update to the Lidar Classified Point Cloud (2016-18) and Lidar Digital Terrain Model (2016-18) datasets. This high-resolution elevation data, covering selected areas of the province, is suitable for local and regional land resource, science and planning applications.",
 "name": "DEM/Lidar_DTM_2017_LIO",
 "description": "In partnership with Land Information Ontario, the Provincial Mapping Unit of the Ministry of Natural Resources and Forestry has released an update to the Lidar Classified Point Cloud (2016-18) and Lidar Digital Terrain Model (2016-18) datasets. This high-resolution elevation data, covering selected areas of the province, is suitable for local and regional land resource, science and planning applications.",
 "extent": {
  "xmin": 323270,
  "ymin": 4615583.920399999,
  "xmax": 385000,
  "ymax": 4690999.920399999,
  "spatialReference": {
   "wkid": 26917,
   "latestWkid": 26917
  }
 },
 "initialExtent": {
  "xmin": 323270,
  "ymin": 4615583.920399999,
  "xmax": 385000,
  "ymax": 4690999.920399999,
  "spatialReference": {
   "wkid": 26917,
   "latestWkid": 26917
  }
 },
 "fullExtent": {
  "xmin": 323270,
  "ymin": 4615583.920399999,
  "xmax": 385000,
  "ymax": 4690999.920399999,
  "spatialReference": {
   "wkid": 26917,
   "latestWkid": 26917
  }
 },
 "pixelSizeX": 0.5,
 "pixelSizeY": 0.5,
 "bandCount": 1,
 "pixelType": "F32",
 "minPixelSize": 0,
 "maxPixelSize": 0,
 "copyrightText": "",
 "serviceDataType": "esriImageServiceDataTypeElevation",
 "minValues": [
  124.20800018310547
 ],
 "maxValues": [
  230.56399536132812
 ],
 "meanValues": [
  184.48220046893485
 ],
 "stdvValues": [
  7.062673796742781
 ],
 "objectIdField": "",
 "fields": [],
 "capabilities": "Image,Metadata,Mensuration",
 "defaultMosaicMethod": "Center",
 "allowedMosaicMethods": "",
 "sortField": "",
 "sortValue": null,
 "sortAscending": true,
 "mosaicOperator": "First",
 "defaultCompressionQuality": 75,
 "defaultResamplingMethod": "Bilinear",
 "maxImageHeight": 4100,
 "maxImageWidth": 15000,
 "allowRasterFunction": true,
 "rasterFunctionInfos": [
  {
   "name": "None",
   "description": "",
   "help": ""
  }
 ],
 "rasterTypeInfos": [
  {
   "name": "Raster Dataset",
   "description": "Supports all ArcGIS Raster Datasets",
   "help": ""
  }
 ],
 "mensurationCapabilities": "Basic",
 "hasHistograms": true,
 "hasColormap": false,
 "hasRasterAttributeTable": false,
 "minScale": 0,
 "maxScale": 0,
 "exportTilesAllowed": false,
 "hasMultidimensions": false,
 "supportsStatistics": false,
 "supportsAdvancedQueries": false,
 "editFieldsInfo": null,
 "ownershipBasedAccessControlForRasters": null,
 "allowComputeTiePoints": false,
 "useStandardizedQueries": true,
 "advancedQueryCapabilities": {
  "useStandardizedQueries": true,
  "supportsStatistics": false,
  "supportsOrderBy": false,
  "supportsDistinct": false,
  "supportsPagination": false
 },
 "spatialReference": {
  "wkid": 26917,
  "latestWkid": 26917
 }
}
