{ "currentVersion": 10.91, "serviceDescription": "

Raster dataset representing the bare earth surface of the Essex Region.<\/SPAN><\/P>
The Airborne Topographic Lidar (ATL) acquisition was initiated during the fall of 2016, spring/fall of 2017 and spring of 2018 through a collaborative partnership between the Ministry of Natural Resources and Forestry (MNRF), the Ministry of Agriculture, Food and Rural Affairs (OMAFRA) and a private contractor; it covers the entirety of, and is limited to, the Essex Region. The Lidar Digital Terrain Model is a 50 cm raster representing the bare-earth terrain derived from a classified lidar point cloud, which has been hydro-flattened using water body breaklines. <\/SPAN><\/SPAN><\/P>
<\/P>
This data set was produced to meet accuracy standards for Ontario Digital Geospatial Data for a 5 cm Vertical Accuracy Class equating to Non-vegetated Vertical Accuracy (NVA) of +/- 9.8 cm at 95% confidence level and Vegetated Vertical Accuracy (VVA) of +/- 14.7 cm at the 95th percentile. <\/SPAN><\/P>
<\/P>
The original dataset's horizontal and vertical reference systems/datums are as follows:<\/SPAN><\/P>
Horizontal: NAD 83 CSRS epoch 2010 UTM Zone 17 N<\/SPAN><\/SPAN><\/P>
Vertical: CGVD2013<\/SPAN><\/SPAN><\/P>
<\/P>
The <\/SPAN>Essex Region Conservation Authority<\/SPAN><\/SPAN>has converted the vertical datum to CGVD28:78 using the GPS-H tool from NRCan. The methodology used for this conversion is available from ERCA upon request.<\/SPAN><\/SPAN><\/P>
<\/P>
Source dataset metadata record (retrieved 20200304): <\/SPAN><\/P>
https://geohub.lio.gov.on.ca/datasets/mnrf::ontario-digital-terrain-model-lidar-derived<\/SPAN><\/SPAN><\/A><\/P>
<\/P>
Source dataset user guide (retrieved 20200304):<\/SPAN><\/P>
https://www.sdc.gov.on.ca/sites/MNRF-PublicDocs/EN/CMID/Ontario-DTM-Lidar-Derived-User-Guide.docx<\/SPAN><\/SPAN><\/A><\/P>
<\/P>
<\/P><\/DIV><\/DIV><\/DIV>", "name": "DEM/Lidar_DTM_2017_LIO_CGVD28_78_Colour", "description": "

Raster dataset representing the bare earth surface of the Essex Region.<\/SPAN><\/P>
The Airborne Topographic Lidar (ATL) acquisition was initiated during the fall of 2016, spring/fall of 2017 and spring of 2018 through a collaborative partnership between the Ministry of Natural Resources and Forestry (MNRF), the Ministry of Agriculture, Food and Rural Affairs (OMAFRA) and a private contractor; it covers the entirety of, and is limited to, the Essex Region. The Lidar Digital Terrain Model is a 50 cm raster representing the bare-earth terrain derived from a classified lidar point cloud, which has been hydro-flattened using water body breaklines. <\/SPAN><\/SPAN><\/P>
<\/P>
This data set was produced to meet accuracy standards for Ontario Digital Geospatial Data for a 5 cm Vertical Accuracy Class equating to Non-vegetated Vertical Accuracy (NVA) of +/- 9.8 cm at 95% confidence level and Vegetated Vertical Accuracy (VVA) of +/- 14.7 cm at the 95th percentile. <\/SPAN><\/P>
<\/P>
The original dataset's horizontal and vertical reference systems/datums are as follows:<\/SPAN><\/P>
Horizontal: NAD 83 CSRS epoch 2010 UTM Zone 17 N<\/SPAN><\/SPAN><\/P>
Vertical: CGVD2013<\/SPAN><\/SPAN><\/P>
<\/P>
The <\/SPAN>Essex Region Conservation Authority<\/SPAN><\/SPAN>has converted the vertical datum to CGVD28:78 using the GPS-H tool from NRCan. The methodology used for this conversion is available from ERCA upon request.<\/SPAN><\/SPAN><\/P>
<\/P>
Source dataset metadata record (retrieved 20200304): <\/SPAN><\/P>
https://geohub.lio.gov.on.ca/datasets/mnrf::ontario-digital-terrain-model-lidar-derived<\/SPAN><\/SPAN><\/A><\/P>
<\/P>
Source dataset user guide (retrieved 20200304):<\/SPAN><\/P>
https://www.sdc.gov.on.ca/sites/MNRF-PublicDocs/EN/CMID/Ontario-DTM-Lidar-Derived-User-Guide.docx<\/SPAN><\/SPAN><\/A><\/P>
<\/P>
<\/P><\/DIV><\/DIV><\/DIV>", "extent": { "xmin": 323265.5, "ymin": 4615583, "xmax": 397995.5, "ymax": 4705000, "spatialReference": { "wkid": 2150, "latestWkid": 2958 } }, "initialExtent": { "xmin": 323265.5, "ymin": 4615583, "xmax": 397995.5, "ymax": 4705000, "spatialReference": { "wkid": 2150, "latestWkid": 2958 } }, "fullExtent": { "xmin": 323265.5, "ymin": 4615583, "xmax": 397995.5, "ymax": 4705000, "spatialReference": { "wkid": 2150, "latestWkid": 2958 } }, "pixelSizeX": 0.5, "pixelSizeY": 0.5, "bandCount": 1, "pixelType": "F32", "minPixelSize": 0, "maxPixelSize": 0, "copyrightText": "CGVD28:78 DEM surface derived by ERCA based on MNRF Lidar \u2013 Digital Terrain Model (2016-18). Copyright ERCA, 2019. Contains information licensed under the Open Government Licence \u2013 Ontario \n\n(www.ontario.ca/page/open-government-licence-ontario)", "serviceDataType": "esriImageServiceDataTypeGeneric", "minValues": [ 124.20800018310547 ], "maxValues": [ 230.56399536132812 ], "meanValues": [ 183.6594868158295 ], "stdvValues": [ 6.954336082461124 ], "objectIdField": "", "fields": [], "capabilities": "Image,Metadata,Mensuration", "defaultMosaicMethod": "Center", "allowedMosaicMethods": "", "sortField": "", "sortValue": null, "sortAscending": true, "mosaicOperator": "First", "defaultCompressionQuality": 75, "defaultResamplingMethod": "Bilinear", "maxImageHeight": 4100, "maxImageWidth": 15000, "allowRasterFunction": true, "rasterFunctionInfos": [ { "name": "Stretched3_20181025", "description": "A raster function template.", "help": "" }, { "name": "None", "description": "", "help": "" } ], "rasterTypeInfos": [ { "name": "Raster Dataset", "description": "Supports all ArcGIS Raster Datasets", "help": "" } ], "mensurationCapabilities": "Basic", "hasHistograms": true, "hasColormap": false, "hasRasterAttributeTable": false, "minScale": 0, "maxScale": 0, "exportTilesAllowed": false, "hasMultidimensions": false, "supportsStatistics": false, "supportsAdvancedQueries": false, "editFieldsInfo": null, "ownershipBasedAccessControlForRasters": null, "allowComputeTiePoints": false, "useStandardizedQueries": true, "advancedQueryCapabilities": { "useStandardizedQueries": true, "supportsStatistics": false, "supportsOrderBy": false, "supportsDistinct": false, "supportsPagination": false }, "spatialReference": { "wkid": 2150, "latestWkid": 2958 } }