{
 "currentVersion": 10.91,
 "serviceDescription": "DEM/Lidar_DTM_2017_LIO_CGVD28_78_hillshade",
 "name": "DEM/Lidar_DTM_2017_LIO_CGVD28_78_hillshade",
 "description": "",
 "extent": {
  "xmin": 323265.5,
  "ymin": 4615583,
  "xmax": 397995.5,
  "ymax": 4705000,
  "spatialReference": {
   "wkid": 2150,
   "latestWkid": 2958
  }
 },
 "initialExtent": {
  "xmin": 323265.5,
  "ymin": 4615583,
  "xmax": 397995.5,
  "ymax": 4705000,
  "spatialReference": {
   "wkid": 2150,
   "latestWkid": 2958
  }
 },
 "fullExtent": {
  "xmin": 323265.5,
  "ymin": 4615583,
  "xmax": 397995.5,
  "ymax": 4705000,
  "spatialReference": {
   "wkid": 2150,
   "latestWkid": 2958
  }
 },
 "pixelSizeX": 0.5,
 "pixelSizeY": 0.5,
 "bandCount": 1,
 "pixelType": "U8",
 "minPixelSize": 0,
 "maxPixelSize": 0,
 "copyrightText": "",
 "serviceDataType": "esriImageServiceDataTypeGeneric",
 "minValues": [
  0
 ],
 "maxValues": [
  254
 ],
 "meanValues": [
  179.4029690765755
 ],
 "stdvValues": [
  9.245762648547935
 ],
 "objectIdField": "",
 "fields": [],
 "capabilities": "Image,Metadata,Mensuration",
 "defaultMosaicMethod": "Center",
 "allowedMosaicMethods": "",
 "sortField": "",
 "sortValue": null,
 "sortAscending": true,
 "mosaicOperator": "First",
 "defaultCompressionQuality": 75,
 "defaultResamplingMethod": "Bilinear",
 "maxImageHeight": 4100,
 "maxImageWidth": 15000,
 "allowRasterFunction": true,
 "rasterFunctionInfos": [
  {
   "name": "None",
   "description": "",
   "help": ""
  }
 ],
 "rasterTypeInfos": [
  {
   "name": "Raster Dataset",
   "description": "Supports all ArcGIS Raster Datasets",
   "help": ""
  }
 ],
 "mensurationCapabilities": "Basic",
 "hasHistograms": true,
 "hasColormap": false,
 "hasRasterAttributeTable": true,
 "minScale": 0,
 "maxScale": 0,
 "exportTilesAllowed": false,
 "hasMultidimensions": false,
 "supportsStatistics": false,
 "supportsAdvancedQueries": false,
 "editFieldsInfo": null,
 "ownershipBasedAccessControlForRasters": null,
 "allowComputeTiePoints": false,
 "useStandardizedQueries": true,
 "advancedQueryCapabilities": {
  "useStandardizedQueries": true,
  "supportsStatistics": false,
  "supportsOrderBy": false,
  "supportsDistinct": false,
  "supportsPagination": false
 },
 "spatialReference": {
  "wkid": 2150,
  "latestWkid": 2958
 }
}
