{
 "currentVersion": 10.91,
 "serviceDescription": "ERCA/ERCA_CorridorRestOpps",
 "name": "ERCA/ERCA_CorridorRestOpps",
 "description": "",
 "extent": {
  "xmin": 326163.50212499965,
  "ymin": 4660003.131312501,
  "xmax": 348413.50212499965,
  "ymax": 4684003.131312501,
  "spatialReference": {
   "wkid": 26917,
   "latestWkid": 26917
  }
 },
 "initialExtent": {
  "xmin": 326163.50212499965,
  "ymin": 4660003.131312501,
  "xmax": 348413.50212499965,
  "ymax": 4684003.131312501,
  "spatialReference": {
   "wkid": 26917,
   "latestWkid": 26917
  }
 },
 "fullExtent": {
  "xmin": 326163.50212499965,
  "ymin": 4660003.131312501,
  "xmax": 348413.50212499965,
  "ymax": 4684003.131312501,
  "spatialReference": {
   "wkid": 26917,
   "latestWkid": 26917
  }
 },
 "pixelSizeX": 10,
 "pixelSizeY": 10,
 "bandCount": 1,
 "pixelType": "F32",
 "minPixelSize": 0,
 "maxPixelSize": 0,
 "copyrightText": "",
 "serviceDataType": "esriImageServiceDataTypeGeneric",
 "minValues": [
  11.15384578704834
 ],
 "maxValues": [
  100
 ],
 "meanValues": [
  28.66244570705831
 ],
 "stdvValues": [
  18.591445501254757
 ],
 "objectIdField": "",
 "fields": [],
 "capabilities": "Mensuration,Image,Metadata",
 "defaultMosaicMethod": "Center",
 "allowedMosaicMethods": "",
 "sortField": "",
 "sortValue": null,
 "sortAscending": true,
 "mosaicOperator": "First",
 "defaultCompressionQuality": 75,
 "defaultResamplingMethod": "Bilinear",
 "maxImageHeight": 4100,
 "maxImageWidth": 15000,
 "allowRasterFunction": true,
 "rasterFunctionInfos": [
  {
   "name": "20230519_01_Colormap_Stretched",
   "description": "A raster function template.",
   "help": ""
  },
  {
   "name": "None",
   "description": "",
   "help": ""
  }
 ],
 "rasterTypeInfos": [
  {
   "name": "Raster Dataset",
   "description": "Supports all ArcGIS Raster Datasets",
   "help": ""
  }
 ],
 "mensurationCapabilities": "Basic",
 "hasHistograms": true,
 "hasColormap": false,
 "hasRasterAttributeTable": false,
 "minScale": 0,
 "maxScale": 0,
 "exportTilesAllowed": false,
 "hasMultidimensions": false,
 "supportsStatistics": false,
 "supportsAdvancedQueries": false,
 "editFieldsInfo": null,
 "ownershipBasedAccessControlForRasters": null,
 "allowComputeTiePoints": false,
 "useStandardizedQueries": true,
 "advancedQueryCapabilities": {
  "useStandardizedQueries": true,
  "supportsStatistics": false,
  "supportsOrderBy": false,
  "supportsDistinct": false,
  "supportsPagination": false
 },
 "spatialReference": {
  "wkid": 26917,
  "latestWkid": 26917
 }
}
