{
 "currentVersion": 10.91,
 "serviceDescription": "This project was flown between March 7th,2020 and May 20th,2020 using Vexcel cameras. The project was planned at a photo scale of 1:15,880 for the Vexcel UCX cameras resulting in a mean pixel size of 11.4cm and photo scale of 1:18,900 for the UCX_Prime camera resulting in a mean pixel size of 11.3cm. All flights support a 45.0cm pixel size at 90% confidence interval. All photo acquisition flights were flown with a minimum sun angle of 30 degrees. All images were flown at a minimal 60% forward gain and 20% sidelap. Airborne GPS and IMU measurements were recorded at each exposed photo center. Post-flight airborne GPS was processed to survey grade accuracies for use in the project\u2019s aerial triangulation process. All images were captured by Airborne Sensing Corp. (ASC) of Toronto Ontario and PHB Geomatics of Boisbriand of Quebec, using three Vexcel UltraCamX and one UCX_Prime digital cameras with airborne GPS and inertial measuring unit. The digital photo data was processed into 8 and 16 bit, four band (RGBIr), pan sharpened, digital colour images.",
 "name": "ERCA/ERCA_SWOOP_2020",
 "description": "This project was flown between March 7th,2020 and May 20th,2020 using Vexcel cameras. The project was planned at a photo scale of 1:15,880 for the Vexcel UCX cameras resulting in a mean pixel size of 11.4cm and photo scale of 1:18,900 for the UCX_Prime camera resulting in a mean pixel size of 11.3cm. All flights support a 45.0cm pixel size at 90% confidence interval. All photo acquisition flights were flown with a minimum sun angle of 30 degrees. All images were flown at a minimal 60% forward gain and 20% sidelap. Airborne GPS and IMU measurements were recorded at each exposed photo center. Post-flight airborne GPS was processed to survey grade accuracies for use in the project\u2019s aerial triangulation process. All images were captured by Airborne Sensing Corp. (ASC) of Toronto Ontario and PHB Geomatics of Boisbriand of Quebec, using three Vexcel UltraCamX and one UCX_Prime digital cameras with airborne GPS and inertial measuring unit. The digital photo data was processed into 8 and 16 bit, four band (RGBIr), pan sharpened, digital colour images.",
 "extent": {
  "xmin": 319999.66796347406,
  "ymin": 4615000.917467929,
  "xmax": 365999.66796347406,
  "ymax": 4693000.917467929,
  "spatialReference": {
   "wkid": 26917,
   "latestWkid": 26917
  }
 },
 "initialExtent": {
  "xmin": 319999.66796347406,
  "ymin": 4615000.917467929,
  "xmax": 365999.66796347406,
  "ymax": 4693000.917467929,
  "spatialReference": {
   "wkid": 26917,
   "latestWkid": 26917
  }
 },
 "fullExtent": {
  "xmin": 319999.66796347406,
  "ymin": 4615000.917467929,
  "xmax": 365999.66796347406,
  "ymax": 4693000.917467929,
  "spatialReference": {
   "wkid": 26917,
   "latestWkid": 26917
  }
 },
 "pixelSizeX": 0.16,
 "pixelSizeY": 0.16,
 "bandCount": 4,
 "pixelType": "U8",
 "minPixelSize": 0,
 "maxPixelSize": 0,
 "copyrightText": "Ontario Ministry of Natural Resources and Forestry\n",
 "serviceDataType": "esriImageServiceDataTypeGeneric",
 "minValues": [
  19,
  31,
  42,
  7
 ],
 "maxValues": [
  248,
  250,
  251,
  240
 ],
 "meanValues": [
  95.21777889609733,
  111.12188393033742,
  109.35896583331812,
  75.66871259368372
 ],
 "stdvValues": [
  26.632897278899296,
  20.98077850666234,
  19.337424816719153,
  46.07047975194919
 ],
 "objectIdField": "OBJECTID",
 "fields": [
  {
   "name": "OBJECTID",
   "type": "esriFieldTypeOID",
   "alias": "OBJECTID",
   "domain": null
  },
  {
   "name": "Name",
   "type": "esriFieldTypeString",
   "alias": "Name",
   "domain": null,
   "length": 200
  },
  {
   "name": "MinPS",
   "type": "esriFieldTypeDouble",
   "alias": "MinPS",
   "domain": null
  },
  {
   "name": "MaxPS",
   "type": "esriFieldTypeDouble",
   "alias": "MaxPS",
   "domain": null
  },
  {
   "name": "LowPS",
   "type": "esriFieldTypeDouble",
   "alias": "LowPS",
   "domain": null
  },
  {
   "name": "HighPS",
   "type": "esriFieldTypeDouble",
   "alias": "HighPS",
   "domain": null
  },
  {
   "name": "Category",
   "type": "esriFieldTypeInteger",
   "alias": "Category",
   "domain": {
    "type": "codedValue",
    "name": "MosaicCatalogItemCategoryDomain",
    "description": "Catalog item categories.",
    "codedValues": [
     {
      "name": "Unknown",
      "code": 0
     },
     {
      "name": "Primary",
      "code": 1
     },
     {
      "name": "Overview",
      "code": 2
     },
     {
      "name": "Unprocessed Overview",
      "code": 3
     },
     {
      "name": "Partial Overview",
      "code": 4
     },
     {
      "name": "Uploaded",
      "code": 253
     },
     {
      "name": "Incomplete",
      "code": 254
     },
     {
      "name": "Custom",
      "code": 255
     }
    ],
    "mergePolicy": "esriMPTDefaultValue",
    "splitPolicy": "esriSPTDefaultValue"
   }
  },
  {
   "name": "Tag",
   "type": "esriFieldTypeString",
   "alias": "Tag",
   "domain": null,
   "length": 100
  },
  {
   "name": "GroupName",
   "type": "esriFieldTypeString",
   "alias": "GroupName",
   "domain": null,
   "length": 100
  },
  {
   "name": "ProductName",
   "type": "esriFieldTypeString",
   "alias": "ProductName",
   "domain": null,
   "length": 100
  },
  {
   "name": "CenterX",
   "type": "esriFieldTypeDouble",
   "alias": "CenterX",
   "domain": null
  },
  {
   "name": "CenterY",
   "type": "esriFieldTypeDouble",
   "alias": "CenterY",
   "domain": null
  },
  {
   "name": "ZOrder",
   "type": "esriFieldTypeInteger",
   "alias": "ZOrder",
   "domain": null
  },
  {
   "name": "Shape",
   "type": "esriFieldTypeGeometry",
   "alias": "Shape",
   "domain": null
  },
  {
   "name": "Shape.STArea()",
   "type": "esriFieldTypeDouble",
   "alias": "Shape.STArea()",
   "domain": null
  },
  {
   "name": "Shape.STLength()",
   "type": "esriFieldTypeDouble",
   "alias": "Shape.STLength()",
   "domain": null
  }
 ],
 "capabilities": "Image,Metadata,Catalog",
 "defaultMosaicMethod": "Northwest",
 "allowedMosaicMethods": "NorthWest,Center,LockRaster,ByAttribute,Nadir,Viewpoint,Seamline,None",
 "sortField": "",
 "sortValue": null,
 "sortAscending": true,
 "mosaicOperator": "First",
 "maxDownloadSizeLimit": 2048,
 "defaultCompressionQuality": 75,
 "defaultResamplingMethod": "Bilinear",
 "maxImageHeight": 4100,
 "maxImageWidth": 15000,
 "maxRecordCount": 1000,
 "maxDownloadImageCount": 20,
 "maxMosaicImageCount": 20,
 "allowRasterFunction": true,
 "rasterFunctionInfos": [
  {
   "name": "None",
   "description": "A No-Op Function.",
   "help": ""
  }
 ],
 "rasterTypeInfos": [
  {
   "name": "Raster Dataset",
   "description": "Supports all ArcGIS Raster Datasets",
   "help": ""
  }
 ],
 "mensurationCapabilities": "None",
 "hasHistograms": true,
 "hasColormap": false,
 "hasRasterAttributeTable": false,
 "minScale": 0,
 "maxScale": 0,
 "exportTilesAllowed": false,
 "hasMultidimensions": false,
 "supportsStatistics": true,
 "supportsAdvancedQueries": true,
 "editFieldsInfo": null,
 "ownershipBasedAccessControlForRasters": null,
 "allowComputeTiePoints": false,
 "useStandardizedQueries": true,
 "advancedQueryCapabilities": {
  "useStandardizedQueries": true,
  "supportsStatistics": true,
  "supportsOrderBy": true,
  "supportsDistinct": true,
  "supportsPagination": true
 },
 "spatialReference": {
  "wkid": 26917,
  "latestWkid": 26917
 }
}
