{
 "currentVersion": 10.91,
 "serviceDescription": "ERCA/ERCA_1947_DetroitRiver_1_15000",
 "name": "Historical/ERCA_1947_DetroitRiver_1_15000",
 "description": "ERCA/ERCA_1947_DetroitRiver_1_15000",
 "extent": {
  "xmin": 322049.1267125434,
  "ymin": 4666763.942232807,
  "xmax": 345207.32671254117,
  "ymax": 4689650.342232805,
  "spatialReference": {
   "wkid": 26917,
   "latestWkid": 26917
  }
 },
 "initialExtent": {
  "xmin": 322049.1267125434,
  "ymin": 4666763.942232807,
  "xmax": 345207.32671254117,
  "ymax": 4689650.342232805,
  "spatialReference": {
   "wkid": 26917,
   "latestWkid": 26917
  }
 },
 "fullExtent": {
  "xmin": 322049.1267125434,
  "ymin": 4666763.942232807,
  "xmax": 345207.32671254117,
  "ymax": 4689650.342232805,
  "spatialReference": {
   "wkid": 26917,
   "latestWkid": 26917
  }
 },
 "pixelSizeX": 0.1999999999999805,
 "pixelSizeY": 0.19999999999997883,
 "bandCount": 1,
 "pixelType": "U8",
 "minPixelSize": 0,
 "maxPixelSize": 0,
 "copyrightText": "",
 "serviceDataType": "esriImageServiceDataTypeGeneric",
 "minValues": [],
 "maxValues": [],
 "meanValues": [],
 "stdvValues": [],
 "objectIdField": "",
 "fields": [],
 "capabilities": "Image,Metadata,Mensuration",
 "defaultMosaicMethod": "Center",
 "allowedMosaicMethods": "",
 "sortField": "",
 "sortValue": null,
 "sortAscending": true,
 "mosaicOperator": "First",
 "defaultCompressionQuality": 75,
 "defaultResamplingMethod": "Bilinear",
 "maxImageHeight": 4100,
 "maxImageWidth": 15000,
 "allowRasterFunction": true,
 "rasterFunctionInfos": [
  {
   "name": "None",
   "description": "",
   "help": ""
  }
 ],
 "rasterTypeInfos": [
  {
   "name": "Raster Dataset",
   "description": "Supports all ArcGIS Raster Datasets",
   "help": ""
  }
 ],
 "mensurationCapabilities": "Basic",
 "hasHistograms": false,
 "hasColormap": false,
 "hasRasterAttributeTable": false,
 "minScale": 0,
 "maxScale": 0,
 "exportTilesAllowed": false,
 "hasMultidimensions": false,
 "supportsStatistics": false,
 "supportsAdvancedQueries": false,
 "editFieldsInfo": null,
 "ownershipBasedAccessControlForRasters": null,
 "allowComputeTiePoints": false,
 "useStandardizedQueries": true,
 "advancedQueryCapabilities": {
  "useStandardizedQueries": true,
  "supportsStatistics": false,
  "supportsOrderBy": false,
  "supportsDistinct": false,
  "supportsPagination": false
 },
 "spatialReference": {
  "wkid": 26917,
  "latestWkid": 26917
 }
}
