{
 "currentVersion": 10.91,
 "serviceDescription": "Captured in the Spring by Northway Map Technology Ltd.\nAcquired scanned images from NAPL\t\nPartial Detroit River shoreline\tFrom Flood Damage Reduction Program (FDRP)\nNatural Resources Canada/Ministry of Natural Resources\n\t\n",
 "name": "Historical/ERCA_1988_DetroitRiver_1_9000",
 "description": "Captured in the Spring by Northway Map Technology Ltd.\nAcquired scanned images from NAPL\t\nPartial Detroit River shoreline\tFrom Flood Damage Reduction Program (FDRP)\nNatural Resources Canada/Ministry of Natural Resources\n\t\n",
 "extent": {
  "xmin": 324359.92277362396,
  "ymin": 4656792.936466926,
  "xmax": 344969.25387862383,
  "ymax": 4690638.227730925,
  "spatialReference": {
   "wkid": 26917,
   "latestWkid": 26917
  }
 },
 "initialExtent": {
  "xmin": 324359.92277362396,
  "ymin": 4656792.936466926,
  "xmax": 344969.25387862383,
  "ymax": 4690638.227730925,
  "spatialReference": {
   "wkid": 26917,
   "latestWkid": 26917
  }
 },
 "fullExtent": {
  "xmin": 324359.92277362396,
  "ymin": 4656792.936466926,
  "xmax": 344969.25387862383,
  "ymax": 4690638.227730925,
  "spatialReference": {
   "wkid": 26917,
   "latestWkid": 26917
  }
 },
 "pixelSizeX": 0.10739899999999934,
 "pixelSizeY": 0.10739899999999815,
 "bandCount": 1,
 "pixelType": "U8",
 "minPixelSize": 0,
 "maxPixelSize": 0,
 "copyrightText": "",
 "serviceDataType": "esriImageServiceDataTypeGeneric",
 "minValues": [],
 "maxValues": [],
 "meanValues": [],
 "stdvValues": [],
 "objectIdField": "",
 "fields": [],
 "capabilities": "Image,Metadata,Mensuration",
 "defaultMosaicMethod": "Center",
 "allowedMosaicMethods": "",
 "sortField": "",
 "sortValue": null,
 "sortAscending": true,
 "mosaicOperator": "First",
 "defaultCompressionQuality": 75,
 "defaultResamplingMethod": "Bilinear",
 "maxImageHeight": 4100,
 "maxImageWidth": 15000,
 "allowRasterFunction": true,
 "rasterFunctionInfos": [
  {
   "name": "None",
   "description": "",
   "help": ""
  }
 ],
 "rasterTypeInfos": [
  {
   "name": "Raster Dataset",
   "description": "Supports all ArcGIS Raster Datasets",
   "help": ""
  }
 ],
 "mensurationCapabilities": "Basic",
 "hasHistograms": false,
 "hasColormap": false,
 "hasRasterAttributeTable": false,
 "minScale": 0,
 "maxScale": 0,
 "exportTilesAllowed": false,
 "hasMultidimensions": false,
 "supportsStatistics": false,
 "supportsAdvancedQueries": false,
 "editFieldsInfo": null,
 "ownershipBasedAccessControlForRasters": null,
 "allowComputeTiePoints": false,
 "useStandardizedQueries": true,
 "advancedQueryCapabilities": {
  "useStandardizedQueries": true,
  "supportsStatistics": false,
  "supportsOrderBy": false,
  "supportsDistinct": false,
  "supportsPagination": false
 },
 "spatialReference": {
  "wkid": 26917,
  "latestWkid": 26917
 }
}
