View In:
ArcGIS JavaScript
ArcGIS Online Map Viewer
ArcGIS Earth
ArcMap
View Footprint In:
ArcGIS Online Map Viewer
Service Description: Turkey Creek Watershed
Name: ERCA/TurkeyCreekTif
Description: Turkey Creek Watershed
Single Fused Map Cache: false
Extent:
XMin: 325692.8777709962
YMin: 4676921.142226155
XMax: 334988.3777709962
YMax: 4680958.142226155
Spatial Reference: 26917
(26917)
Initial Extent:
XMin: 325692.8777709962
YMin: 4676921.142226155
XMax: 334988.3777709962
YMax: 4680958.142226155
Spatial Reference: 26917
(26917)
Full Extent:
XMin: 325692.8777709962
YMin: 4676921.142226155
XMax: 334988.3777709962
YMax: 4680958.142226155
Spatial Reference: 26917
(26917)
Pixel Size X: 0.5
Pixel Size Y: 0.5
Band Count: 1
Pixel Type: F32
RasterFunction Infos: {"rasterFunctionInfos": [{
"name": "None",
"description": "",
"help": ""
}]}
Mensuration Capabilities: Basic
Has Histograms: true
Has Colormap: false
Has Multi Dimensions : false
Rendering Rule:
Min Scale: 0
Max Scale: 0
Copyright Text:
Service Data Type: esriImageServiceDataTypeGeneric
Min Values: 175
Max Values: 180.46229553222656
Mean Values: 177.2319864291912
Standard Deviation Values: 0.7696612986264463
Object ID Field:
Fields:
None
Default Mosaic Method: Center
Allowed Mosaic Methods:
SortField:
SortValue: null
Mosaic Operator: First
Default Compression Quality: 75
Default Resampling Method: Bilinear
Max Record Count: null
Max Image Height: 4100
Max Image Width: 15000
Max Download Image Count: null
Max Mosaic Image Count: null
Allow Raster Function: true
Allow Copy: null
Allow Analysis: null
Allow Compute TiePoints: false
Supports Statistics: false
Supports Advanced Queries: false
Use StandardizedQueries: true
Raster Type Infos:
Name: Raster Dataset
Description: Supports all ArcGIS Raster Datasets
Help:
Has Raster Attribute Table: false
Edit Fields Info: null
Ownership Based AccessControl For Rasters: null
Child Resources:
Info
Histograms
Key Properties
Legend
Raster Function Infos
Supported Operations:
Export Image
Identify
Measure
Compute Histograms
Compute Statistics Histograms
Get Samples
Compute Class Statistics
Query Boundary
Compute Pixel Location
Compute Angles
Validate
Project