View In:
ArcGIS JavaScript
ArcGIS Online Map Viewer
ArcGIS Earth
ArcMap
View Footprint In:
ArcGIS Online Map Viewer
Service Description: ERCA/ERCA_1931_DetroitRiver_1_10000
Name: Historical/ERCA_1931_DetroitRiver_1_10000
Description: ERCA/ERCA_1931_DetroitRiver_1_10000
Single Fused Map Cache: false
Extent:
XMin: 322385.2589865438
YMin: 4656642.504948194
XMax: 342660.45898654073
YMax: 4692124.104948189
Spatial Reference: 26917
(26917)
Initial Extent:
XMin: 322385.2589865438
YMin: 4656642.504948194
XMax: 342660.45898654073
YMax: 4692124.104948189
Spatial Reference: 26917
(26917)
Full Extent:
XMin: 322385.2589865438
YMin: 4656642.504948194
XMax: 342660.45898654073
YMax: 4692124.104948189
Spatial Reference: 26917
(26917)
Pixel Size X: 0.2999999999999545
Pixel Size Y: 0.29999999999995747
Band Count: 1
Pixel Type: U8
RasterFunction Infos: {"rasterFunctionInfos": [{
"name": "None",
"description": "",
"help": ""
}]}
Mensuration Capabilities: Basic
Has Histograms: false
Has Colormap: false
Has Multi Dimensions : false
Rendering Rule:
Min Scale: 0
Max Scale: 0
Copyright Text:
Service Data Type: esriImageServiceDataTypeGeneric
Min Values: N/A
Max Values: N/A
Mean Values: N/A
Standard Deviation Values: N/A
Object ID Field:
Fields:
None
Default Mosaic Method: Center
Allowed Mosaic Methods:
SortField:
SortValue: null
Mosaic Operator: First
Default Compression Quality: 75
Default Resampling Method: Bilinear
Max Record Count: null
Max Image Height: 4100
Max Image Width: 15000
Max Download Image Count: null
Max Mosaic Image Count: null
Allow Raster Function: true
Allow Copy: null
Allow Analysis: null
Allow Compute TiePoints: false
Supports Statistics: false
Supports Advanced Queries: false
Use StandardizedQueries: true
Raster Type Infos:
Name: Raster Dataset
Description: Supports all ArcGIS Raster Datasets
Help:
Has Raster Attribute Table: false
Edit Fields Info: null
Ownership Based AccessControl For Rasters: null
Child Resources:
Info
Key Properties
Legend
Raster Function Infos
Supported Operations:
Export Image
Identify
Measure
Compute Histograms
Compute Statistics Histograms
Get Samples
Compute Class Statistics
Query Boundary
Compute Pixel Location
Compute Angles
Validate
Project