View In:
ArcGIS JavaScript
ArcGIS Online Map Viewer
ArcGIS Earth
ArcMap
View Footprint In:
ArcGIS Online Map Viewer
Service Description: In partnership with Land Information Ontario, the Provincial Mapping Unit of the Ministry of Natural Resources and Forestry has released an update to the Lidar Classified Point Cloud (2016-18) and Lidar Digital Terrain Model (2016-18) datasets. This high-resolution elevation data, covering selected areas of the province, is suitable for local and regional land resource, science and planning applications.
Name: DEM/Lidar_DTM_2017_LIO
Description: In partnership with Land Information Ontario, the Provincial Mapping Unit of the Ministry of Natural Resources and Forestry has released an update to the Lidar Classified Point Cloud (2016-18) and Lidar Digital Terrain Model (2016-18) datasets. This high-resolution elevation data, covering selected areas of the province, is suitable for local and regional land resource, science and planning applications.
Single Fused Map Cache: false
Extent:
XMin: 323270
YMin: 4615583.920399999
XMax: 385000
YMax: 4690999.920399999
Spatial Reference: 26917
(26917)
Initial Extent:
XMin: 323270
YMin: 4615583.920399999
XMax: 385000
YMax: 4690999.920399999
Spatial Reference: 26917
(26917)
Full Extent:
XMin: 323270
YMin: 4615583.920399999
XMax: 385000
YMax: 4690999.920399999
Spatial Reference: 26917
(26917)
Pixel Size X: 0.5
Pixel Size Y: 0.5
Band Count: 1
Pixel Type: F32
RasterFunction Infos: {"rasterFunctionInfos": [{
"name": "None",
"description": "",
"help": ""
}]}
Mensuration Capabilities: Basic
Has Histograms: true
Has Colormap: false
Has Multi Dimensions : false
Rendering Rule:
Min Scale: 0
Max Scale: 0
Copyright Text:
Service Data Type: esriImageServiceDataTypeElevation
Min Values: 124.20800018310547
Max Values: 230.56399536132812
Mean Values: 184.48220046893485
Standard Deviation Values: 7.062673796742781
Object ID Field:
Fields:
None
Default Mosaic Method: Center
Allowed Mosaic Methods:
SortField:
SortValue: null
Mosaic Operator: First
Default Compression Quality: 75
Default Resampling Method: Bilinear
Max Record Count: null
Max Image Height: 4100
Max Image Width: 15000
Max Download Image Count: null
Max Mosaic Image Count: null
Allow Raster Function: true
Allow Copy: null
Allow Analysis: null
Allow Compute TiePoints: false
Supports Statistics: false
Supports Advanced Queries: false
Use StandardizedQueries: true
Raster Type Infos:
Name: Raster Dataset
Description: Supports all ArcGIS Raster Datasets
Help:
Has Raster Attribute Table: false
Edit Fields Info: null
Ownership Based AccessControl For Rasters: null
Child Resources:
Info
Histograms
Key Properties
Legend
Raster Function Infos
Supported Operations:
Export Image
Identify
Measure
Compute Histograms
Compute Statistics Histograms
Get Samples
Compute Class Statistics
Query Boundary
Compute Pixel Location
Compute Angles
Validate
Project
Calculate Volume