View In:
ArcGIS JavaScript
ArcGIS Online Map Viewer
ArcGIS Earth
ArcMap
View Footprint In:
ArcGIS Online Map Viewer
Service Description: ERCA/ERCA_CorridorRestOpps
Name: ERCA/ERCA_CorridorRestOpps
Description:
Single Fused Map Cache: false
Extent:
XMin: 326163.50212499965
YMin: 4660003.131312501
XMax: 348413.50212499965
YMax: 4684003.131312501
Spatial Reference: 26917
(26917)
Initial Extent:
XMin: 326163.50212499965
YMin: 4660003.131312501
XMax: 348413.50212499965
YMax: 4684003.131312501
Spatial Reference: 26917
(26917)
Full Extent:
XMin: 326163.50212499965
YMin: 4660003.131312501
XMax: 348413.50212499965
YMax: 4684003.131312501
Spatial Reference: 26917
(26917)
Pixel Size X: 10.0
Pixel Size Y: 10.0
Band Count: 1
Pixel Type: F32
RasterFunction Infos: {"rasterFunctionInfos": [
{
"name": "20230519_01_Colormap_Stretched",
"description": "A raster function template.",
"help": ""
},
{
"name": "None",
"description": "",
"help": ""
}
]}
Mensuration Capabilities: Basic
Has Histograms: true
Has Colormap: false
Has Multi Dimensions : false
Rendering Rule:
Min Scale: 0
Max Scale: 0
Copyright Text:
Service Data Type: esriImageServiceDataTypeGeneric
Min Values: 11.15384578704834
Max Values: 100
Mean Values: 28.66244570705831
Standard Deviation Values: 18.591445501254757
Object ID Field:
Fields:
None
Default Mosaic Method: Center
Allowed Mosaic Methods:
SortField:
SortValue: null
Mosaic Operator: First
Default Compression Quality: 75
Default Resampling Method: Bilinear
Max Record Count: null
Max Image Height: 4100
Max Image Width: 15000
Max Download Image Count: null
Max Mosaic Image Count: null
Allow Raster Function: true
Allow Copy: null
Allow Analysis: null
Allow Compute TiePoints: false
Supports Statistics: false
Supports Advanced Queries: false
Use StandardizedQueries: true
Raster Type Infos:
Name: Raster Dataset
Description: Supports all ArcGIS Raster Datasets
Help:
Has Raster Attribute Table: false
Edit Fields Info: null
Ownership Based AccessControl For Rasters: null
Child Resources:
Info
Histograms
Key Properties
Legend
Raster Function Infos
Supported Operations:
Export Image
Identify
Measure
Compute Histograms
Compute Statistics Histograms
Get Samples
Compute Class Statistics
Query Boundary
Compute Pixel Location
Compute Angles
Validate
Project