View In:
ArcGIS JavaScript
ArcGIS Online Map Viewer
ArcGIS Earth
ArcMap
View Footprint In:
ArcGIS Online Map Viewer
Service Description: This project was flown between March 7th,2020 and May 20th,2020 using Vexcel cameras. The project was planned at a photo scale of 1:15,880 for the Vexcel UCX cameras resulting in a mean pixel size of 11.4cm and photo scale of 1:18,900 for the UCX_Prime camera resulting in a mean pixel size of 11.3cm. All flights support a 45.0cm pixel size at 90% confidence interval. All photo acquisition flights were flown with a minimum sun angle of 30 degrees. All images were flown at a minimal 60% forward gain and 20% sidelap. Airborne GPS and IMU measurements were recorded at each exposed photo center. Post-flight airborne GPS was processed to survey grade accuracies for use in the project’s aerial triangulation process. All images were captured by Airborne Sensing Corp. (ASC) of Toronto Ontario and PHB Geomatics of Boisbriand of Quebec, using three Vexcel UltraCamX and one UCX_Prime digital cameras with airborne GPS and inertial measuring unit. The digital photo data was processed into 8 and 16 bit, four band (RGBIr), pan sharpened, digital colour images.
Name: ERCA/ERCA_SWOOP_2020
Description: This project was flown between March 7th,2020 and May 20th,2020 using Vexcel cameras. The project was planned at a photo scale of 1:15,880 for the Vexcel UCX cameras resulting in a mean pixel size of 11.4cm and photo scale of 1:18,900 for the UCX_Prime camera resulting in a mean pixel size of 11.3cm. All flights support a 45.0cm pixel size at 90% confidence interval. All photo acquisition flights were flown with a minimum sun angle of 30 degrees. All images were flown at a minimal 60% forward gain and 20% sidelap. Airborne GPS and IMU measurements were recorded at each exposed photo center. Post-flight airborne GPS was processed to survey grade accuracies for use in the project’s aerial triangulation process. All images were captured by Airborne Sensing Corp. (ASC) of Toronto Ontario and PHB Geomatics of Boisbriand of Quebec, using three Vexcel UltraCamX and one UCX_Prime digital cameras with airborne GPS and inertial measuring unit. The digital photo data was processed into 8 and 16 bit, four band (RGBIr), pan sharpened, digital colour images.
Single Fused Map Cache: false
Extent:
XMin: 319999.66796347406
YMin: 4615000.917467929
XMax: 365999.66796347406
YMax: 4693000.917467929
Spatial Reference: 26917
(26917)
Initial Extent:
XMin: 319999.66796347406
YMin: 4615000.917467929
XMax: 365999.66796347406
YMax: 4693000.917467929
Spatial Reference: 26917
(26917)
Full Extent:
XMin: 319999.66796347406
YMin: 4615000.917467929
XMax: 365999.66796347406
YMax: 4693000.917467929
Spatial Reference: 26917
(26917)
Pixel Size X: 0.16
Pixel Size Y: 0.16
Band Count: 4
Pixel Type: U8
RasterFunction Infos: {"rasterFunctionInfos": [{
"name": "None",
"description": "A No-Op Function.",
"help": ""
}]}
Mensuration Capabilities: None
Has Histograms: true
Has Colormap: false
Has Multi Dimensions : false
Rendering Rule:
Min Scale: 0
Max Scale: 0
Copyright Text: Ontario Ministry of Natural Resources and Forestry
Service Data Type: esriImageServiceDataTypeGeneric
Min Values: 19, 31, 42, 7
Max Values: 248, 250, 251, 240
Mean Values: 95.21777889609733, 111.12188393033742, 109.35896583331812, 75.66871259368372
Standard Deviation Values: 26.632897278899296, 20.98077850666234, 19.337424816719153, 46.07047975194919
Object ID Field: OBJECTID
Fields:
-
OBJECTID
(
type: esriFieldTypeOID, alias: OBJECTID
)
-
Name
(
type: esriFieldTypeString, alias: Name, length: 200
)
-
MinPS
(
type: esriFieldTypeDouble, alias: MinPS
)
-
MaxPS
(
type: esriFieldTypeDouble, alias: MaxPS
)
-
LowPS
(
type: esriFieldTypeDouble, alias: LowPS
)
-
HighPS
(
type: esriFieldTypeDouble, alias: HighPS
)
-
Category
(
type: esriFieldTypeInteger, alias: Category
, Coded Values:
[0: Unknown]
, [1: Primary]
, [2: Overview]
, ...5 more...
)
-
Tag
(
type: esriFieldTypeString, alias: Tag, length: 100
)
-
GroupName
(
type: esriFieldTypeString, alias: GroupName, length: 100
)
-
ProductName
(
type: esriFieldTypeString, alias: ProductName, length: 100
)
-
CenterX
(
type: esriFieldTypeDouble, alias: CenterX
)
-
CenterY
(
type: esriFieldTypeDouble, alias: CenterY
)
-
ZOrder
(
type: esriFieldTypeInteger, alias: ZOrder
)
-
Shape
(
type: esriFieldTypeGeometry, alias: Shape
)
-
Shape.STArea()
(
type: esriFieldTypeDouble, alias: Shape.STArea()
)
-
Shape.STLength()
(
type: esriFieldTypeDouble, alias: Shape.STLength()
)
Default Mosaic Method: Northwest
Allowed Mosaic Methods: NorthWest,Center,LockRaster,ByAttribute,Nadir,Viewpoint,Seamline,None
SortField:
SortValue: null
Mosaic Operator: First
Default Compression Quality: 75
Default Resampling Method: Bilinear
Max Record Count: 1000
Max Image Height: 4100
Max Image Width: 15000
Max Download Image Count: 20
Max Mosaic Image Count: 20
Allow Raster Function: true
Allow Copy: null
Allow Analysis: null
Allow Compute TiePoints: false
Supports Statistics: true
Supports Advanced Queries: true
Use StandardizedQueries: true
Raster Type Infos:
Name: Raster Dataset
Description: Supports all ArcGIS Raster Datasets
Help:
Has Raster Attribute Table: false
Edit Fields Info: null
Ownership Based AccessControl For Rasters: null
Child Resources:
Info
Histograms
Key Properties
Legend
Raster Function Infos
Supported Operations:
Export Image
Query
Identify
Compute Histograms
Compute Statistics Histograms
Get Samples
Compute Class Statistics
Query Boundary
Compute Pixel Location
Compute Angles
Validate
Project