View In:
ArcGIS JavaScript
ArcGIS Online Map Viewer
ArcGIS Earth
ArcMap
View Footprint In:
ArcGIS Online Map Viewer
Service Description: ERCA/ERCA_1947_DetroitRiver_1_15000
Name: Historical/ERCA_1947_DetroitRiver_1_15000
Description: ERCA/ERCA_1947_DetroitRiver_1_15000
Single Fused Map Cache: false
Extent:
XMin: 322049.1267125434
YMin: 4666763.942232807
XMax: 345207.32671254117
YMax: 4689650.342232805
Spatial Reference: 26917
(26917)
Initial Extent:
XMin: 322049.1267125434
YMin: 4666763.942232807
XMax: 345207.32671254117
YMax: 4689650.342232805
Spatial Reference: 26917
(26917)
Full Extent:
XMin: 322049.1267125434
YMin: 4666763.942232807
XMax: 345207.32671254117
YMax: 4689650.342232805
Spatial Reference: 26917
(26917)
Pixel Size X: 0.1999999999999805
Pixel Size Y: 0.19999999999997883
Band Count: 1
Pixel Type: U8
RasterFunction Infos: {"rasterFunctionInfos": [{
"name": "None",
"description": "",
"help": ""
}]}
Mensuration Capabilities: Basic
Has Histograms: false
Has Colormap: false
Has Multi Dimensions : false
Rendering Rule:
Min Scale: 0
Max Scale: 0
Copyright Text:
Service Data Type: esriImageServiceDataTypeGeneric
Min Values: N/A
Max Values: N/A
Mean Values: N/A
Standard Deviation Values: N/A
Object ID Field:
Fields:
None
Default Mosaic Method: Center
Allowed Mosaic Methods:
SortField:
SortValue: null
Mosaic Operator: First
Default Compression Quality: 75
Default Resampling Method: Bilinear
Max Record Count: null
Max Image Height: 4100
Max Image Width: 15000
Max Download Image Count: null
Max Mosaic Image Count: null
Allow Raster Function: true
Allow Copy: null
Allow Analysis: null
Allow Compute TiePoints: false
Supports Statistics: false
Supports Advanced Queries: false
Use StandardizedQueries: true
Raster Type Infos:
Name: Raster Dataset
Description: Supports all ArcGIS Raster Datasets
Help:
Has Raster Attribute Table: false
Edit Fields Info: null
Ownership Based AccessControl For Rasters: null
Child Resources:
Info
Key Properties
Legend
Raster Function Infos
Supported Operations:
Export Image
Identify
Measure
Compute Histograms
Compute Statistics Histograms
Get Samples
Compute Class Statistics
Query Boundary
Compute Pixel Location
Compute Angles
Validate
Project