View In:
ArcGIS JavaScript
ArcGIS Online Map Viewer
ArcGIS Earth
ArcMap
View Footprint In:
ArcGIS Online Map Viewer
Service Description: Captured in the Spring by Northway Map Technology Ltd.
Acquired scanned images from NAPL Partial Detroit River shoreline From Flood Damage Reduction Program (FDRP)
Natural Resources Canada/Ministry of Natural Resources
Name: Historical/ERCA_1988_DetroitRiver_1_9000
Description: Captured in the Spring by Northway Map Technology Ltd.
Acquired scanned images from NAPL Partial Detroit River shoreline From Flood Damage Reduction Program (FDRP)
Natural Resources Canada/Ministry of Natural Resources
Single Fused Map Cache: false
Extent:
XMin: 324359.92277362396
YMin: 4656792.936466926
XMax: 344969.25387862383
YMax: 4690638.227730925
Spatial Reference: 26917
(26917)
Initial Extent:
XMin: 324359.92277362396
YMin: 4656792.936466926
XMax: 344969.25387862383
YMax: 4690638.227730925
Spatial Reference: 26917
(26917)
Full Extent:
XMin: 324359.92277362396
YMin: 4656792.936466926
XMax: 344969.25387862383
YMax: 4690638.227730925
Spatial Reference: 26917
(26917)
Pixel Size X: 0.10739899999999934
Pixel Size Y: 0.10739899999999815
Band Count: 1
Pixel Type: U8
RasterFunction Infos: {"rasterFunctionInfos": [{
"name": "None",
"description": "",
"help": ""
}]}
Mensuration Capabilities: Basic
Has Histograms: false
Has Colormap: false
Has Multi Dimensions : false
Rendering Rule:
Min Scale: 0
Max Scale: 0
Copyright Text:
Service Data Type: esriImageServiceDataTypeGeneric
Min Values: N/A
Max Values: N/A
Mean Values: N/A
Standard Deviation Values: N/A
Object ID Field:
Fields:
None
Default Mosaic Method: Center
Allowed Mosaic Methods:
SortField:
SortValue: null
Mosaic Operator: First
Default Compression Quality: 75
Default Resampling Method: Bilinear
Max Record Count: null
Max Image Height: 4100
Max Image Width: 15000
Max Download Image Count: null
Max Mosaic Image Count: null
Allow Raster Function: true
Allow Copy: null
Allow Analysis: null
Allow Compute TiePoints: false
Supports Statistics: false
Supports Advanced Queries: false
Use StandardizedQueries: true
Raster Type Infos:
Name: Raster Dataset
Description: Supports all ArcGIS Raster Datasets
Help:
Has Raster Attribute Table: false
Edit Fields Info: null
Ownership Based AccessControl For Rasters: null
Child Resources:
Info
Key Properties
Legend
Raster Function Infos
Supported Operations:
Export Image
Identify
Measure
Compute Histograms
Compute Statistics Histograms
Get Samples
Compute Class Statistics
Query Boundary
Compute Pixel Location
Compute Angles
Validate
Project